BEGIN:VCALENDAR
VERSION:2.0
PRODID:-//Three Valleys Community Foundation - ECPv6.15.20//NONSGML v1.0//EN
CALSCALE:GREGORIAN
METHOD:PUBLISH
X-ORIGINAL-URL:https://3vcf.org
X-WR-CALDESC:Events for Three Valleys Community Foundation
REFRESH-INTERVAL;VALUE=DURATION:PT1H
X-Robots-Tag:noindex
X-PUBLISHED-TTL:PT1H
BEGIN:VTIMEZONE
TZID:America/Los_Angeles
BEGIN:DAYLIGHT
TZOFFSETFROM:-0800
TZOFFSETTO:-0700
TZNAME:PDT
DTSTART:20240310T100000
END:DAYLIGHT
BEGIN:STANDARD
TZOFFSETFROM:-0700
TZOFFSETTO:-0800
TZNAME:PST
DTSTART:20241103T090000
END:STANDARD
BEGIN:DAYLIGHT
TZOFFSETFROM:-0800
TZOFFSETTO:-0700
TZNAME:PDT
DTSTART:20250309T100000
END:DAYLIGHT
BEGIN:STANDARD
TZOFFSETFROM:-0700
TZOFFSETTO:-0800
TZNAME:PST
DTSTART:20251102T090000
END:STANDARD
BEGIN:DAYLIGHT
TZOFFSETFROM:-0800
TZOFFSETTO:-0700
TZNAME:PDT
DTSTART:20260308T100000
END:DAYLIGHT
BEGIN:STANDARD
TZOFFSETFROM:-0700
TZOFFSETTO:-0800
TZNAME:PST
DTSTART:20261101T090000
END:STANDARD
END:VTIMEZONE
BEGIN:VEVENT
DTSTART;TZID=America/Los_Angeles:20250703T193000
DTEND;TZID=America/Los_Angeles:20250703T220000
DTSTAMP:20260423T051315
CREATED:20250606T232339Z
LAST-MODIFIED:20250606T232339Z
UID:6608-1751571000-1751580000@3vcf.org
SUMMARY:Shakespeare in the Vineyard- The Merry Wives of Windsor
DESCRIPTION:SPARC Theater presents Sir John Falstaff and the Merry Wives of Windsor\, a laugh-out-loud summer production set against the stunning backdrop of Darcie Kent Vineyards in Livermore.\nThis beloved Shakespearean comedy follows the misadventures of the boastful Sir John Falstaff\, who hatches a plan to woo two wealthy women at once—only to be hilariously outsmarted by both. With mistaken identities\, wild pranks\, and witty wordplay\, The Merry Wives of Windsor delivers fast-paced fun and heart in equal measure.\nJoin us July 3–27\, 2025\, for evening performances starting at 7:30 PM. Audiences are invited to arrive early\, bring a picnic\, and enjoy Darcie Kent’s award-winning wines while relaxing under the stars. It’s an unforgettable night of culture\, comedy\, and community in one of the Bay Area’s most picturesque outdoor venues.
URL:https://3vcf.org/event/shakespeare-in-the-vineyard-the-merry-wives-of-windsor-2/
LOCATION:Darcie Kent Vineyards\, 7000 Tesla Road\, Livermore\, CA\, 94550\, United States
ATTACH;FMTTYPE=image/png:https://3vcf.org/wp-content/uploads/2025/06/Merry-Wives-25-Listings-Graphic-1.png
ORGANIZER;CN="SPARC Theater":MAILTO:emma@sparctheater.org
END:VEVENT
BEGIN:VEVENT
DTSTART;TZID=America/Los_Angeles:20250705T193000
DTEND;TZID=America/Los_Angeles:20250705T220000
DTSTAMP:20260423T051315
CREATED:20250606T232317Z
LAST-MODIFIED:20250606T232317Z
UID:6612-1751743800-1751752800@3vcf.org
SUMMARY:Shakespeare in the Vineyard- The Merry Wives of Windsor
DESCRIPTION:SPARC Theater presents Sir John Falstaff and the Merry Wives of Windsor\, a laugh-out-loud summer production set against the stunning backdrop of Darcie Kent Vineyards in Livermore.\nThis beloved Shakespearean comedy follows the misadventures of the boastful Sir John Falstaff\, who hatches a plan to woo two wealthy women at once—only to be hilariously outsmarted by both. With mistaken identities\, wild pranks\, and witty wordplay\, The Merry Wives of Windsor delivers fast-paced fun and heart in equal measure.\nJoin us July 3–27\, 2025\, for evening performances starting at 7:30 PM. Audiences are invited to arrive early\, bring a picnic\, and enjoy Darcie Kent’s award-winning wines while relaxing under the stars. It’s an unforgettable night of culture\, comedy\, and community in one of the Bay Area’s most picturesque outdoor venues.
URL:https://3vcf.org/event/shakespeare-in-the-vineyard-the-merry-wives-of-windsor/
LOCATION:Darcie Kent Vineyards\, 7000 Tesla Road\, Livermore\, CA\, 94550\, United States
ATTACH;FMTTYPE=image/png:https://3vcf.org/wp-content/uploads/2025/06/Merry-Wives-25-Listings-Graphic-1-1.png
ORGANIZER;CN="SPARC Theater":MAILTO:emma@sparctheater.org
END:VEVENT
BEGIN:VEVENT
DTSTART;TZID=America/Los_Angeles:20250721T110000
DTEND;TZID=America/Los_Angeles:20250721T183000
DTSTAMP:20260423T051315
CREATED:20250530T191013Z
LAST-MODIFIED:20250530T191013Z
UID:6473-1753095600-1753122600@3vcf.org
SUMMARY:Knights of Columbus Golf Tournament
DESCRIPTION:19th Annual Knights of Columbus SWING FOR CHARITY Golf Tournament being held Monday\, July 21\, 2025 @ Callippe Preserve Golf Course 8500 Clubhouse Dr.\, Pleasanton\, CA 94566 \nThis is a shotgun start18-hole golf tournament lunch\, gifts & prizes\, om course contests\, award Ceremony and buffet dinner. The beneficiaries are Rotacare Pittsburg Free Medical Clinic at St. Vincent de Paul; St. Joan of Arc Catholic Church and Knights of Columbus Sponsored Charities
URL:https://3vcf.org/event/knights-of-columbus-golf-tournament/
LOCATION:Callippe Preserve Golf Course\, 8500 Clubhouse Dr.\, Pleasanton\, CA 94566\, 94566
END:VEVENT
END:VCALENDAR