BEGIN:VCALENDAR
VERSION:2.0
PRODID:-//Three Valleys Community Foundation - ECPv6.15.20//NONSGML v1.0//EN
CALSCALE:GREGORIAN
METHOD:PUBLISH
X-ORIGINAL-URL:https://3vcf.org
X-WR-CALDESC:Events for Three Valleys Community Foundation
REFRESH-INTERVAL;VALUE=DURATION:PT1H
X-Robots-Tag:noindex
X-PUBLISHED-TTL:PT1H
BEGIN:VTIMEZONE
TZID:America/Los_Angeles
BEGIN:DAYLIGHT
TZOFFSETFROM:-0800
TZOFFSETTO:-0700
TZNAME:PDT
DTSTART:20240310T100000
END:DAYLIGHT
BEGIN:STANDARD
TZOFFSETFROM:-0700
TZOFFSETTO:-0800
TZNAME:PST
DTSTART:20241103T090000
END:STANDARD
BEGIN:DAYLIGHT
TZOFFSETFROM:-0800
TZOFFSETTO:-0700
TZNAME:PDT
DTSTART:20250309T100000
END:DAYLIGHT
BEGIN:STANDARD
TZOFFSETFROM:-0700
TZOFFSETTO:-0800
TZNAME:PST
DTSTART:20251102T090000
END:STANDARD
BEGIN:DAYLIGHT
TZOFFSETFROM:-0800
TZOFFSETTO:-0700
TZNAME:PDT
DTSTART:20260308T100000
END:DAYLIGHT
BEGIN:STANDARD
TZOFFSETFROM:-0700
TZOFFSETTO:-0800
TZNAME:PST
DTSTART:20261101T090000
END:STANDARD
END:VTIMEZONE
BEGIN:VEVENT
DTSTART;TZID=America/Los_Angeles:20250605T110000
DTEND;TZID=America/Los_Angeles:20250605T140000
DTSTAMP:20260423T070358
CREATED:20250605T004051Z
LAST-MODIFIED:20250605T004051Z
UID:6520-1749121200-1749132000@3vcf.org
SUMMARY:Water Walk 2025
DESCRIPTION:Community is invited to gather in prayer\, purpose\, and unity at our Water Walk in San Francisco. Together\, we will honor and offer prayers for the water — the lifeblood of our Mother Earth — and uplift the sacred responsibility we hold as protectors of this vital source. Women are encouraged to wear their ceremonial skirts.
URL:https://3vcf.org/event/water-walk-2025/
ATTACH;FMTTYPE=image/png:https://3vcf.org/wp-content/uploads/2025/06/Screen-Shot-2025-06-02-at-2.24.19-PM.png
END:VEVENT
BEGIN:VEVENT
DTSTART;TZID=America/Los_Angeles:20250606T100000
DTEND;TZID=America/Los_Angeles:20250606T113000
DTSTAMP:20260423T070358
CREATED:20250602T160613Z
LAST-MODIFIED:20250602T160613Z
UID:6495-1749204000-1749209400@3vcf.org
SUMMARY:Elder Abuse Signs and Legal Remedies
DESCRIPTION:Experienced elder abuse attorney from Contra Costa Senior Legal Services Emily Milstein will present on elder abuse\, legal remedies\, and resources.
URL:https://3vcf.org/event/elder-abuse-signs-and-legal-remedies/
LOCATION:Online
ATTACH;FMTTYPE=image/png:https://3vcf.org/wp-content/uploads/2025/06/Screen-Shot-2025-06-02-at-10.28.27-AM.png
END:VEVENT
BEGIN:VEVENT
DTSTART;TZID=America/Los_Angeles:20250606T130000
DTEND;TZID=America/Los_Angeles:20250606T170000
DTSTAMP:20260423T070358
CREATED:20250218T015337Z
LAST-MODIFIED:20250218T015337Z
UID:5794-1749214800-1749229200@3vcf.org
SUMMARY:10th Annual Fred Finch Charity Golf Tournament
DESCRIPTION:Dear Friend of Fred Finch\, \nMark your calendars for an unforgettable day of fun and philanthropy! We are thrilled to announce the 10th Annual Fred Finch Charity Golf Tournament\, taking place on Friday\, June 6\, 2025\, at the stunning Rancho Bernardo Inn & Resort! \nThis milestone event promises a memorable day of golf\, a raffle\, and a reception—all in support of Fred Finch Youth & Family Services and our mission to provide life-changing programs for youth\, families\, and communities in need. \nTo make this special year even more impactful\, we’re forming an event committee to assist with planning and fundraising. If you’d like to contribute your talents\, please email me at danielaogden@fredfinch.org to join the team. \nWe’re also seeking sponsors to help make this event a success. With a variety of sponsorship levels and customizable packages\, this is a great opportunity to support our cause while gaining meaningful visibility in the community. \nStay tuned for registration details\, and we can’t wait to see you on the course as we celebrate the 10th Annual Fred Finch Charity Golf Tournament together!
URL:https://3vcf.org/event/10th-annual-fred-finch-charity-golf-tournament/
LOCATION:Rancho Bernardo Inn\, 17550 Bernardo Oaks Dr\, San Diego\, 92128
ATTACH;FMTTYPE=image/png:https://3vcf.org/wp-content/uploads/2025/02/unnamed.png
ORGANIZER;CN="Fred Rinch Youth &amp%3B Family Services":MAILTO:danielaogden@fredfinch.org
END:VEVENT
BEGIN:VEVENT
DTSTART;TZID=America/Los_Angeles:20250607T100000
DTEND;TZID=America/Los_Angeles:20250607T160000
DTSTAMP:20260423T070358
CREATED:20250605T003915Z
LAST-MODIFIED:20250605T003915Z
UID:6593-1749290400-1749312000@3vcf.org
SUMMARY:Weekends on Main Presents: Hot Rod Row + BMX Bike Fest!
DESCRIPTION:Get ready for a day of excitement\, perfect for the whole family in downtown Pleasanton! On Saturday\, June 7\, 2025\, from 10am-4pm\, enjoy a fantastic display of over 200 hot rods and classic cars. \nThere will be live music throughout the event from a variety of different local bands\, bringing awesome energy to the streets and making it the perfect way to spend a Saturday afternoon. This event is free to the public. \nAs an added treat\, the BMX Bike Fest (located between St. Mary and St. John St.) presented by the Alameda County Fairgrounds will be happening alongside our Hot Rod Row car show this year! Be sure to catch these shows at 12PM and 2PM. \nThis event will feature jaw-dropping stunts\, high-flying jumps\, and mind-bending tricks that will leave you on the edge of your seat! \nIf you’re looking for an adrenaline-pumping experience\, then this is the event for you. The BMX show is perfect for families\, friends\, and anyone who loves extreme sports. You’ll be amazed by the talent and courage of these riders as they defy gravity and perform incredible feats. So mark your calendars for June 7 and don’t miss your chance to see the BMX show live in downtown Pleasanton! \nStop by and say hi at the PDA information table on Main Street in front of the Museum on Main\, look for the purple flag. There we will be hosting a free raffle to give away tickets to the Alameda County Fair taking place this summer from June 13 – July 6. Winning raffle tickets will be announced at the BMX Bike Stage at 12pm and 2pm. Winners MUST be present to receive tickets. \nThe Alameda County Fairgrounds is offering a FREE ticket for every Elementary school child. Make sure to reach out to your school to find out how to grab those tickets. \nThank you so much to our BMX Bike Fest sponsor\, Alameda County Fairgrounds. Don’t miss all of the high flying fun at the fair this summer where they will have freestyle bike teams\, motocross\, BMX bikes\, rodeo tractor pulls\, and monster trucks! \n*Please note that Main Street will be closed to traffic from Friday\, June 6 at 4:00 PM to Sunday\, June 8 at 10:00 PM.
URL:https://3vcf.org/event/weekends-on-main-presents-hot-rod-row-bmx-bike-fest/
ATTACH;FMTTYPE=image/png:https://3vcf.org/wp-content/uploads/2025/06/unnamed-1.png
END:VEVENT
BEGIN:VEVENT
DTSTART;TZID=America/Los_Angeles:20250608T130000
DTEND;TZID=America/Los_Angeles:20250608T150000
DTSTAMP:20260423T070358
CREATED:20250606T232052Z
LAST-MODIFIED:20250606T232052Z
UID:6634-1749387600-1749394800@3vcf.org
SUMMARY:Race Amity Festival
DESCRIPTION:Listen to local artists\, quotes\, and inspirational stories as we gather to rejoice and honor our collective diversity.\nLight refreshments will be served.
URL:https://3vcf.org/event/race-amity-festival/
ATTACH;FMTTYPE=image/png:https://3vcf.org/wp-content/uploads/2025/06/Screen-Shot-2025-06-06-at-3.43.05-PM.png
END:VEVENT
BEGIN:VEVENT
DTSTART;TZID=America/Los_Angeles:20250612T103000
DTEND;TZID=America/Los_Angeles:20250612T120000
DTSTAMP:20260423T070358
CREATED:20250529T184836Z
LAST-MODIFIED:20250529T184836Z
UID:6455-1749724200-1749729600@3vcf.org
SUMMARY:Mastering Presentations and Delivery\, with Rick Altman
DESCRIPTION:Back by popular demand! Rick Altman—host of the internationally acclaimed Presentation Summit and author of Why Most PowerPoint Presentations Suck—returns to TVNPA for another dynamic session on crafting and delivering impactful presentations. Known for his engaging style and practical insights\, Rick will help you elevate your storytelling and visual impact.
URL:https://3vcf.org/event/mastering-presentations-and-delivery-with-rick-altman/
LOCATION:Bankhead Theater\, 2400 First Street\, Livermore\, CA\, 94550\, United States
ATTACH;FMTTYPE=image/png:https://3vcf.org/wp-content/uploads/2025/05/2025-03-program-cover-1.png
ORGANIZER;CN="Tri-Valley Nonprofit Alliance":MAILTO:info@tvnpa.org
END:VEVENT
BEGIN:VEVENT
DTSTART;TZID=America/Los_Angeles:20250612T173000
DTEND;TZID=America/Los_Angeles:20250612T200000
DTSTAMP:20260423T070358
CREATED:20250605T004146Z
LAST-MODIFIED:20250605T004146Z
UID:6512-1749749400-1749758400@3vcf.org
SUMMARY:Sip\, Shop\, & Stroll 2025
DESCRIPTION:Our 2025 Sip\, Shop & Stroll is here! \nJoin us for Danville’s Favorite Wine Stroll! Our 2025 Sip\, Shop & Stroll features more than 20 businesses in Downtown Danville. \nIt’s a beautiful evening to network and connect with family and friends to Wine\, Dine\, and Shop Locally!
URL:https://3vcf.org/event/sip-shop-stroll-2025/
ATTACH;FMTTYPE=image/png:https://3vcf.org/wp-content/uploads/2025/06/Screen-Shot-2025-06-02-at-2.10.36-PM.png
END:VEVENT
BEGIN:VEVENT
DTSTART;TZID=America/Los_Angeles:20250612T183000
DTEND;TZID=America/Los_Angeles:20250612T203000
DTSTAMP:20260423T070358
CREATED:20250606T232127Z
LAST-MODIFIED:20250606T232127Z
UID:6627-1749753000-1749760200@3vcf.org
SUMMARY:Trivia Night Fundraiser
DESCRIPTION:The game will be hosted by Home Brew Trivia’s Nancy and Jeff Lewis\, who also happen to be the duo behind the Pleasanton Weekly’s Streetwise column. Doors will open at 6 p.m. June 12 and trivia will begin at 7 p.m. \nThere will be fabulous raffle prizes and auction items\, and you will be able to meet staff members – the people behind the bylines! \nTickets are $25 each. Proceeds will benefit Embarcadero Media Foundation’s East Bay Division publications: Pleasanton Weekly\, DanvilleSanRamon and Livermore Vine. \nAttendees must be 21 years of age or older.
URL:https://3vcf.org/event/trivia-night-fundraiser/
ATTACH;FMTTYPE=image/png:https://3vcf.org/wp-content/uploads/2025/06/Screen-Shot-2025-06-06-at-2.36.32-PM.png
END:VEVENT
BEGIN:VEVENT
DTSTART;TZID=America/Los_Angeles:20250613T100000
DTEND;TZID=America/Los_Angeles:20250613T113000
DTSTAMP:20260423T070358
CREATED:20250602T160655Z
LAST-MODIFIED:20250602T160655Z
UID:6499-1749808800-1749814200@3vcf.org
SUMMARY:Interpersonal Violence 101
DESCRIPTION:This training provides a comprehensive look at domestic violence\, sexual assault\, child abuse\, elder abuse\, human trafficking\, and stalking. After training\, you will be able to identify different types of interpersonal violence and help victims reach safety.
URL:https://3vcf.org/event/interpersonal-violence-101/
LOCATION:Online
ATTACH;FMTTYPE=image/png:https://3vcf.org/wp-content/uploads/2025/06/Screen-Shot-2025-06-02-at-10.31.42-AM.png
END:VEVENT
BEGIN:VEVENT
DTSTART;TZID=America/Los_Angeles:20250614T100000
DTEND;TZID=America/Los_Angeles:20250614T120000
DTSTAMP:20260423T070358
CREATED:20250605T004026Z
LAST-MODIFIED:20250605T004026Z
UID:6531-1749895200-1749902400@3vcf.org
SUMMARY:Running Is My High
DESCRIPTION:Join us for our annual Running Is My High (RIMH) 5K/10K Fun Run and Walk is set to take place on June 14th at Lake Merritt in Oakland. This year’s theme is “Step Into Your Power!” and we are excited to gather with you all for this celebration of health\, culture\, and community.
URL:https://3vcf.org/event/running-is-my-high/
ATTACH;FMTTYPE=image/png:https://3vcf.org/wp-content/uploads/2025/06/Screen-Shot-2025-06-02-at-2.25.46-PM.png
END:VEVENT
BEGIN:VEVENT
DTSTART;TZID=America/Los_Angeles:20250618T160000
DTEND;TZID=America/Los_Angeles:20250618T180000
DTSTAMP:20260423T070358
CREATED:20250529T185213Z
LAST-MODIFIED:20250529T185213Z
UID:6449-1750262400-1750269600@3vcf.org
SUMMARY:Grounded Leadership: Businesses\, Nonprofits\, and Community Members in Action
DESCRIPTION:Join TVNPA and the East Bay Leadership Council for this important and inspiring forum\, featuring neighbors\, leaders\, and changemakers uniting to create community-driven solutions\, offer hope\, and chart a shared path forward. \nIn a time of deep challenges—when nonprofits are stretched to meet rising needs\, businesses are navigating economic uncertainty\, and many in our community feel overwhelmed or divided—we believe it’s more important than ever to come together. This forum is about building something bigger than any one sector. It’s about neighbors\, leaders\, and changemakers uniting to create community-driven solutions\, offer hope\, and chart a shared path forward. \nWhether you work at a nonprofit\, own a business\, serve in government\, or simply care deeply about your community\, this conversation is for you. We’re creating space for honest dialogue\, practical ideas\, and meaningful connections that can move us beyond division and toward collective strength—across political lines\, economic roles\, and lived experience.
URL:https://3vcf.org/event/grounded-leadership-businesses-nonprofits-and-community-members-in-action/
LOCATION:Rosewood Commons Conference Center\, 4400 Rosewood Dr.\, Pleasanton\, 94588
ATTACH;FMTTYPE=image/png:https://3vcf.org/wp-content/uploads/2025/05/Grounded-Leadership-3.png
ORGANIZER;CN="Tri-Valley Nonprofit Alliance":MAILTO:info@tvnpa.org
END:VEVENT
BEGIN:VEVENT
DTSTART;TZID=America/Los_Angeles:20250621T170000
DTEND;TZID=America/Los_Angeles:20250621T200000
DTSTAMP:20260423T070358
CREATED:20250605T004122Z
LAST-MODIFIED:20250605T004122Z
UID:6517-1750525200-1750536000@3vcf.org
SUMMARY:Summer Soirée at the Tassajara One Room Schoolhouse
DESCRIPTION:Join MuseumSRV for a magical evening under the summer sky at the historic Tassajara One Room Schoolhouse. This annual fundraiser supports the Museum’s educational programs and promises a memorable night of live music\, delicious food\, and community connection—all set against the picturesque backdrop of Danville’s heritage. \nIncludes entry\, food\, entertainment\, and the joy of supporting local history and education.
URL:https://3vcf.org/event/summer-soiree-at-the-tassajara-one-room-schoolhouse/
LOCATION:Tassajara One Room Schoolhouse\, 1650 Finley Rd\, Danville\, 94517
ATTACH;FMTTYPE=image/png:https://3vcf.org/wp-content/uploads/2025/06/Screen-Shot-2025-06-02-at-2.14.41-PM.png
END:VEVENT
BEGIN:VEVENT
DTSTART;TZID=America/Los_Angeles:20250621T170000
DTEND;TZID=America/Los_Angeles:20250621T203000
DTSTAMP:20260423T070358
CREATED:20250327T165401Z
LAST-MODIFIED:20250327T165504Z
UID:6077-1750525200-1750537800@3vcf.org
SUMMARY:Celebrating Goodness Village
DESCRIPTION:A Night of Dinner\, Auctions & Giving to Help End the Cycle of Homelessness \nBecome a sponsor at\nwww.GVLivermore.org/CelebratingGoodnessVillage\nor email us at lbrown@gvlivermore.org
URL:https://3vcf.org/event/celebrating-goodness-village/
LOCATION:Pleasanton Senior Center\, 5353 Sunol Blvd\, Pleasanton\, 94466
ATTACH;FMTTYPE=image/jpeg:https://3vcf.org/wp-content/uploads/2025/03/Celebrating-Goodness-Village-flyer-2025-5-x-7-in.jpg
ORGANIZER;CN="Goodness Village":MAILTO:info@gvlivermore.org
END:VEVENT
BEGIN:VEVENT
DTSTART;TZID=America/Los_Angeles:20250622T170000
DTEND;TZID=America/Los_Angeles:20250622T200000
DTSTAMP:20260423T070358
CREATED:20250602T202250Z
LAST-MODIFIED:20250602T202250Z
UID:6536-1750611600-1750622400@3vcf.org
SUMMARY:Opera in the Vineyard
DESCRIPTION:Pack your picnic and get ready and join us for a magical evening of your favorite songs\, wine\, and summer charm under the open sky. Set in the heart of wine country\, this beloved event brings together world-class voices and relaxed vineyard vibes for a concert experience like no other. \n🎶 A few highlights from the lineup: \n“Make Believe” from Showboat\n“The Impossible Dream” from Man of La Mancha\n“Toreador Song” from Carmen \nGates Open @ 4:15 pm
URL:https://3vcf.org/event/opera-in-the-vineyard-2/
ATTACH;FMTTYPE=image/png:https://3vcf.org/wp-content/uploads/2025/06/Screen-Shot-2025-06-02-at-2.43.42-PM.png
END:VEVENT
BEGIN:VEVENT
DTSTART;TZID=America/Los_Angeles:20250625T100000
DTEND;TZID=America/Los_Angeles:20250625T113000
DTSTAMP:20260423T070358
CREATED:20250605T004209Z
LAST-MODIFIED:20250605T004209Z
UID:6509-1750845600-1750851000@3vcf.org
SUMMARY:Real Estate Fraud & Elder Abuse
DESCRIPTION:This workshop is provided by Dana Filkowki\, Supervising Deputy DA\, Major Financial Crimes\, Contra Costa DA’s Office.
URL:https://3vcf.org/event/real-estate-fraud-elder-abuse/
LOCATION:Online
ATTACH;FMTTYPE=image/png:https://3vcf.org/wp-content/uploads/2025/06/Screen-Shot-2025-06-02-at-1.55.29-PM.png
ORGANIZER;CN="Family Justice Institute":MAILTO:info@cocofamilyjustice.org
END:VEVENT
END:VCALENDAR