BEGIN:VCALENDAR
VERSION:2.0
PRODID:-//Three Valleys Community Foundation - ECPv6.15.20//NONSGML v1.0//EN
CALSCALE:GREGORIAN
METHOD:PUBLISH
X-ORIGINAL-URL:https://3vcf.org
X-WR-CALDESC:Events for Three Valleys Community Foundation
REFRESH-INTERVAL;VALUE=DURATION:PT1H
X-Robots-Tag:noindex
X-PUBLISHED-TTL:PT1H
BEGIN:VTIMEZONE
TZID:America/Los_Angeles
BEGIN:DAYLIGHT
TZOFFSETFROM:-0800
TZOFFSETTO:-0700
TZNAME:PDT
DTSTART:20250309T100000
END:DAYLIGHT
BEGIN:STANDARD
TZOFFSETFROM:-0700
TZOFFSETTO:-0800
TZNAME:PST
DTSTART:20251102T090000
END:STANDARD
BEGIN:DAYLIGHT
TZOFFSETFROM:-0800
TZOFFSETTO:-0700
TZNAME:PDT
DTSTART:20260308T100000
END:DAYLIGHT
BEGIN:STANDARD
TZOFFSETFROM:-0700
TZOFFSETTO:-0800
TZNAME:PST
DTSTART:20261101T090000
END:STANDARD
BEGIN:DAYLIGHT
TZOFFSETFROM:-0800
TZOFFSETTO:-0700
TZNAME:PDT
DTSTART:20270314T100000
END:DAYLIGHT
BEGIN:STANDARD
TZOFFSETFROM:-0700
TZOFFSETTO:-0800
TZNAME:PST
DTSTART:20271107T090000
END:STANDARD
END:VTIMEZONE
BEGIN:VEVENT
DTSTART;TZID=America/Los_Angeles:20260404T100000
DTEND;TZID=America/Los_Angeles:20260404T120000
DTSTAMP:20260421T041643
CREATED:20260406T192155Z
LAST-MODIFIED:20260406T192155Z
UID:9412-1775296800-1775304000@3vcf.org
SUMMARY:Downtown Pleasanton's Annual Bunny Hop
DESCRIPTION:The Bunny Hop is back and we are so egg-cited! This family friendly event is a whole lot of fun! \nOn Saturday April 4th\, you can join us at the Museum on Main between 10am – 12pm. There will be ONE line for both maps and bunny photos\, and goodies along the way from our sponsors!! \nWhat’s Happening at Bunny Hop:\nFREE photos with the Downtown Easter Bunny in front of the Museum on Main.\nScavenger hunt with giveaways – You can pick up your scavenger hunt maps in line at the PDA Info table under the Pleasanton Variety store sign (please remain in line to get these!).\nBring your own basket or grab a bag at the PDA Info table! Stay in line to continue on for the Bunny photos or hop on out once you receive your map to skip along on your scavenger hunt for goodies downtown!\nThere will be other fun characters to greet and take photos with! *Hint: She is a friend of Woody’s from Toy Story!\nSay hello to real bunnies visiting from Kwanderosa Farms in front of the Museum too! \nThank you to our sponsors\, Marcel Orthodontics & Stratford School of Pleasanton! \n-The PDA team
URL:https://3vcf.org/event/downtown-pleasantons-annual-bunny-hop/
LOCATION:Pleasanton Museum on Main\, 603 Main Street\, Pleasanton\, 94566
ATTACH;FMTTYPE=image/png:https://3vcf.org/wp-content/uploads/2026/04/unnamed.png
ORGANIZER;CN="Pleasanton Downtown Association":MAILTO:events@pleasantondowntown.net
END:VEVENT
BEGIN:VEVENT
DTSTART;TZID=America/Los_Angeles:20260411T110000
DTEND;TZID=America/Los_Angeles:20260411T130000
DTSTAMP:20260421T041643
CREATED:20260407T224942Z
LAST-MODIFIED:20260407T224942Z
UID:9472-1775905200-1775912400@3vcf.org
SUMMARY:Care Pop Up
DESCRIPTION:On Saturday April 11th\, Fountain Church is hosting a Care Pop Up! 11am to 1pm \nOur prayer is that we will serve families and individuals who are in need this season. \nIf you are a single parent home\, family or individual who has been out of work and/or has been experiencing a tough season financially due to unforeseen circumstances\, we would love to bless you. At our Care Pop Up\, we will have brand new items such as bed sheets\, Bombas socks (unisex)\, baby essentials\, drinks and dry foods to fill pantries as well as clothing and shoes for women\, and more. \nTo come to the Care Pop Up\, families and individuals must register. Please register for everyone in your party. \nItems at the Care Pop Up may be subject to change based on availability of goods. \nItems are free\, but registration is required.
URL:https://3vcf.org/event/care-pop-up/
LOCATION:Fountain Church\, 4439 Stoneridge Drive\, Pleasanton\, 94566
ATTACH;FMTTYPE=image/png:https://3vcf.org/wp-content/uploads/2026/04/IMG_9481.png
ORGANIZER;CN="Fountain Church":MAILTO:carisa@fountainchurch.cc
END:VEVENT
BEGIN:VEVENT
DTSTART;TZID=America/Los_Angeles:20260414T170000
DTEND;TZID=America/Los_Angeles:20260414T200000
DTSTAMP:20260421T041643
CREATED:20260407T225009Z
LAST-MODIFIED:20260409T235911Z
UID:9480-1776186000-1776196800@3vcf.org
SUMMARY:SideTrack Tips for Change
DESCRIPTION:Enjoy delicious food served by a fun\, spirited waitstaff\, all while supporting Sunflower Hill! Raffle tickets will be available for purchase—don’t miss your chance to win some amazing prizes! \nPull up a chair and meet our amazing team: \nJack Balch\, Pleasanton Mayor\nEvan Branning\, Livermore City Councilmember\nMargaret Liang\, Dublin Heritage and Cultural Art Commissioner\nKelly Bowers\, CEO/President of the Three Valleys Community Foundation\nJohn Lengyel\, Sunflower Hill Board Member\nBrad Wilson\, Sunflower Hill Board Member\nJaneen Rubino-Brumm\, Sunflower Hill Advisor\n100% of tips donated through Community Health and Education Foundation (CHEF) will be matched at 50% to benefit Sunflower Hill. Spots will fill up quickly—make your reservation today!
URL:https://3vcf.org/event/sidetrack-tip-for-change/
LOCATION:SideTrack Bar + Grill\, 30 W Angela St\, Pleasanton\, 94588
ATTACH;FMTTYPE=image/jpeg:https://3vcf.org/wp-content/uploads/2026/04/flyer-half-pg-SideTrack-Tips-for-Change-2026-5.5-x-8.5-in-1.jpg
END:VEVENT
BEGIN:VEVENT
DTSTART;TZID=America/Los_Angeles:20260414T173000
DTEND;TZID=America/Los_Angeles:20260414T183000
DTSTAMP:20260421T041643
CREATED:20260406T192133Z
LAST-MODIFIED:20260406T192133Z
UID:9421-1776187800-1776191400@3vcf.org
SUMMARY:What Do We Know About AI Companions and Their Impact on Young People?/Webinar by by Celeste Campos-Castillo\, PhD
DESCRIPTION:Dr. Celeste Campos-Castillo will present a webinar\, What Do We Know About AI Companions and Their Impact on Young People? In this talk\, Dr. Campos‑Castillo will define artificial intelligence (AI) companions and discuss what we currently know about how young people are using AI companions and the benefits\, risks\, and best ways to keep young people safe. She will draw connections to trends in young people’s mental health and recent deaths by suicide among young people that have been linked to AI companion use. Xiaofang Chen\, Co-Founder and President of the Alan Hu Foundation\, is grateful for the support of Tri-Valley Nonprofit Alliance\, a contributor who has made this presentation possible. \nCeleste Campos‑Castillo\, PhD\, is an Associate Professor in the Department of Media and Information at Michigan State University. She studies how digital technologies\, from AI companions to social media\, shape the health and well‑being of children and adolescents. She partners with young people to design the research she conducts and the resulting solutions. She is also a parent\, which fuels her commitment to helping families\, educators\, and communities understand the rapidly changing digital world that young people are navigating. Her goal is to provide research that leads to practical\, compassionate approaches that support young people. \nThe free webinar will be held on Tuesday\, April 14\, 2026\, at 5:30 – 6:30 pm PT via Zoom. It will include 15 minutes for questions and answers following Dr. Campos-Castillo’s presentation. To receive the Zoom meeting link\, please RSVP by April 13\, 2026\, at: https://alanhufoundation.org/. Participants may join beginning at 5:15 pm. The Mental Health Association for Chinese Communities at https://www.mhacc-usa.org will partially fund simultaneous Chinese interpretation. Simultaneous Spanish interpretation will be provided with support from Tri-Valley Nonprofit Alliance. \nThe Alan Hu Foundation was created by Xiaofang Chen and Chih-Ching Hu in memory of their son\, Alan. He passed away due to mental disorders in 2018 at the age of 15. Their mission is to promote mental health\, raise awareness and remove stigma surrounding psychiatric disorders\, and to support fundamental research for cures. \nFor further information and to support the Alan Hu Foundation\, please visit the website: https://alanhufoundation.org/please-help
URL:https://3vcf.org/event/what-do-we-know-about-ai-companions-and-their-impact-on-young-people-webinar-by-by-celeste-campos-castillo-phd/
LOCATION:Virtual/Zoom
ATTACH;FMTTYPE=image/jpeg:https://3vcf.org/wp-content/uploads/2026/04/Lecture-37-Intro-Slide-scaled.jpg
ORGANIZER;CN="Alan Hu Foundation":MAILTO:info@alanhufoundation.org
END:VEVENT
BEGIN:VEVENT
DTSTART;TZID=America/Los_Angeles:20260416T170000
DTEND;TZID=America/Los_Angeles:20260416T200000
DTSTAMP:20260421T041643
CREATED:20260317T223204Z
LAST-MODIFIED:20260317T223204Z
UID:9251-1776358800-1776369600@3vcf.org
SUMMARY:Paws In Need Trivia Night Fundraiser
DESCRIPTION:Gather Your Friends & Family!\nExperience the Bay Area’s most engaging and informative trivia night —“Edutainment” with HEART!\nEvent Details\nWhen: Thursday\, April 16th\nDoors Open: 5:00 PM\nGame Begins: 6:00 PM\nWhere: 3 Steves Winery |\n5700 Greenville Road\, Livermore\nTickets:\n$25 per adult |\n$5 per child |\n$100 for table of 6\nLaugh\, learn and play together -Enjoy fascinating trivia\, food\, wine and fun prizes\, while supporting a great cause!\nWhat to Expect\nJoin a team for multiple trivia rounds\nIndulge in delicious Mexican fare from JulieAnna’s Catering\nSip on tasty beverages from 3 Steves Winery\nBring your friends and win prizes\nEnjoy a festive night of questions\, laughter\, and friendly competition!
URL:https://3vcf.org/event/paws-in-need-trivia-night-fundraiser/
LOCATION:3 Steves Winery\, 5700 Greenville Rd\, Livermore\, CA\, 94550\, United States
ATTACH;FMTTYPE=image/png:https://3vcf.org/wp-content/uploads/2026/03/Trivia-Night-Flyer-1-scaled.png
ORGANIZER;CN="Paws In N eed":MAILTO:info@Paws-In-Need.org
END:VEVENT
BEGIN:VEVENT
DTSTART;TZID=America/Los_Angeles:20260417T100000
DTEND;TZID=America/Los_Angeles:20260417T120000
DTSTAMP:20260421T041643
CREATED:20260307T012829Z
LAST-MODIFIED:20260307T012829Z
UID:9105-1776420000-1776427200@3vcf.org
SUMMARY:Justice on the Table: Building Long-Term Hunger Solutions in the East Bay
DESCRIPTION:Every day across the Tri-Valley\, nonprofits and food partners work tirelessly to ensure our neighbors can eat. Yet food lines remain long. The question before us is no longer simply how to feed people today\, but how to reduce the need tomorrow. \nJustice on the Table is a candid conversation about moving beyond emergency response toward long-term\, structural solutions. Our presenters will explore the intersection of food access\, housing affordability\, wages\, healthcare\, and public policy. This conversation will examine how we can both strengthen immediate food systems and push toward transformative change that centers equity and long-term stability. \nThis program is designed for government officials\, nonprofit and business leaders\, community leaders\, and members of the press who care about the future of the East Bay and beyond. If we are serious about reducing hunger\, we must align policy\, capital\, and community leadership around actionable solutions.
URL:https://3vcf.org/event/justice-on-the-table-building-long-term-hunger-solutions-in-the-east-bay/
LOCATION:Patelco HQ\, 3 Park Place\, Dublin\, CA\, 94568\, United States
ATTACH;FMTTYPE=image/png:https://3vcf.org/wp-content/uploads/2026/03/Justice-on-the-Table_Early-Registration-Graphic-scaled.png
ORGANIZER;CN="Tri-Valley Nonprofit Alliance":MAILTO:info@tvnpa.org
END:VEVENT
BEGIN:VEVENT
DTSTART;TZID=America/Los_Angeles:20260417T173000
DTEND;TZID=America/Los_Angeles:20260417T210000
DTSTAMP:20260421T041643
CREATED:20260317T223048Z
LAST-MODIFIED:20260317T223048Z
UID:9203-1776447000-1776459600@3vcf.org
SUMMARY:A Starry Night Annual Charity Gala
DESCRIPTION:Join us for our A Starry Night Charity Gala at The Club at Castlewood on April 17th\, 2026. The evening will include a Cocktail Hour with passed Hors D’Oeuvres and a No-Host Bar\, followed by a Seated Dinner including an option of Braised Short Ribs\, Atlantic Salmon\, and Vegetarian. We’ll have some Amazing Auction Items and the crowd-pleasing Heads or Tails game! We’ll end the evening with a DJ to Dance the Night Away! It was a night of Laughter\, Joy\, Friendship and Giving!\nSponsorships available! \nWe look forward to seeing you there!
URL:https://3vcf.org/event/a-starry-night-annual-charity-gala/
LOCATION:The Club at Castlewood
ATTACH;FMTTYPE=image/png:https://3vcf.org/wp-content/uploads/2026/03/Screen-Shot-2026-03-11-at-12.37.00-PM.png
ORGANIZER;CN="Pleasanton North Rotary Foundation":MAILTO:events@pnr-rotaryfoundation.org
END:VEVENT
BEGIN:VEVENT
DTSTART;TZID=America/Los_Angeles:20260418T130000
DTEND;TZID=America/Los_Angeles:20260418T170000
DTSTAMP:20260421T041643
CREATED:20260326T235524Z
LAST-MODIFIED:20260326T235524Z
UID:9315-1776517200-1776531600@3vcf.org
SUMMARY:KNOWN Women's Summit
DESCRIPTION:The KNOWN Women’s Summit is where ambition meets authenticity.\nOn April 18th in Pleasanton\, CA\, you’ll step into a room filled with a diverse group of women who are at the top of their game across business\, technology\, entrepreneurship\, creative industries and so much more. KNOWN is bringing this powerhouse collective together to share the real stories behind their success and challenges. \nJoin us for an impactful in-person event to explore…\nThe truth. The turning points. The lessons. The courage. \nYou’ll hear how they navigated challenges\, claimed their voice\, and manifested the lives and careers they wanted…and you’ll walk away with clarity on what you want to be known for. \nIs this event for you? \nThis summit is for you if you are: \nFeeling stuck\, restless\, or ready for your next chapter \nBuilding a career\, business\, or personal brand \nCraving confidence\, clarity\, and connection \nTired of playing small \nReady to be inspired by women who’ve already walked the path \nIf you’ve ever asked yourself:\n“Am I meant for more than this?”\nYou belong at KNOWN.
URL:https://3vcf.org/event/known-womens-summit/
LOCATION:Rosewood Drive\, Pleasanton
ATTACH;FMTTYPE=image/png:https://3vcf.org/wp-content/uploads/2026/03/kws.png
ORGANIZER;CN="Brand Avenu":MAILTO:brandavenu@gmail.com
END:VEVENT
BEGIN:VEVENT
DTSTART;TZID=America/Los_Angeles:20260422T183000
DTEND;TZID=America/Los_Angeles:20260422T203000
DTSTAMP:20260421T041643
CREATED:20260302T220907Z
LAST-MODIFIED:20260302T220907Z
UID:9061-1776882600-1776889800@3vcf.org
SUMMARY:Effective Nonprofit Fundraising and Grant Writing
DESCRIPTION:Whether you are seeking organizational contributions\, writing grants\, selling school fundraising items\, putting on an event\, or other requests\, is asking for and bringing in funds to support your organization a challenge? In this course you will learn basic fundraising and grant techniques for your project or organization. This workshop is valuable for staff\, boards\, volunteers\, and anyone involved with raising funds for a nonprofit organization.\nWednesdays April 22\, 29\, May 6 6:30 – 8:30 pm
URL:https://3vcf.org/event/effective-nonprofit-fundraising-and-grant-writing-3/
LOCATION:Online
ORGANIZER;CN="Las Positas College Community Educaton":MAILTO:commed@laspositascollege.edu
END:VEVENT
BEGIN:VEVENT
DTSTART;TZID=America/Los_Angeles:20260425T090000
DTEND;TZID=America/Los_Angeles:20260425T120000
DTSTAMP:20260421T041643
CREATED:20260406T192014Z
LAST-MODIFIED:20260406T192014Z
UID:9457-1777107600-1777118400@3vcf.org
SUMMARY:LPC RUN FOR HIGHER EDUCATION & Tri-Valley Nonprofit Alliance
DESCRIPTION:9AM Run/Walk\n10AM Marketplace Celebration & BBQ \nEVERY NON-PROFIT IS A SUPERHERO. IT’S YOUR CHANCE TO BE ONE TOO! \nThis isn’t just a race; it’s your chance to suit up for a fun walk and run that champions education\, health\, wellness and supports the incredible organizations of the Tri-Valley Non-Profit Alliance. \nLace up your sneakers\, channel your inner hero\, and be part of an event that goes far beyond the finish line. \nRace Day Schedule:\n8:00 am – Check in and race day registration opens\n9:00 am – Start both 5K & 1-Mile\n10:00 am-12:00 pm – Marketplace Celebration\, BBQ\, local businesses\, vendors\, and live DJ
URL:https://3vcf.org/event/lpc-run-for-higher-education-tri-valley-nonprofit-alliance/
LOCATION:Las Positas College\, 3000 Campus Hill Drive\, Livermore\, 94551
ATTACH;FMTTYPE=image/png:https://3vcf.org/wp-content/uploads/2026/04/Screen-Shot-2026-04-06-at-1.31.05-PM.png
ORGANIZER;CN="Tri-Valley Nonprofit Alliance":MAILTO:info@tvnpa.org
END:VEVENT
BEGIN:VEVENT
DTSTART;TZID=America/Los_Angeles:20260425T170000
DTEND;TZID=America/Los_Angeles:20260425T200000
DTSTAMP:20260421T041643
CREATED:20260406T192112Z
LAST-MODIFIED:20260406T192112Z
UID:9431-1777136400-1777147200@3vcf.org
SUMMARY:It’s a Spaghetti Western Fundraiser
DESCRIPTION:Saddle up for a wild west night full of fun\, food\, and fundraising you won’t wanna miss! \nIt’s a Spaghetti Western Fundraiser!!\nJoin us at Olivina Ranch on April 25\, 2026 at 5:00 PM for a fun and laid-back evening! Expect great company\, cool vibes\, and a chance to support a good cause with a Spaghetti Western twist. Don your cowboy boots and hats\, and get ready for a rootin’-tootin’ good time. Don’t miss out!
URL:https://3vcf.org/event/its-a-spaghetti-western-fundraiser/
LOCATION:Olivina Ranch\, 4555 Arroyo Rd\, Livermore\, 94550
ATTACH;FMTTYPE=image/jpeg:https://3vcf.org/wp-content/uploads/2026/04/1775241229527-3dcf66fa-e8ab-4e5e-93ce-47e971b602ef_1.jpg
END:VEVENT
BEGIN:VEVENT
DTSTART;TZID=America/Los_Angeles:20260509T190000
DTEND;TZID=America/Los_Angeles:20260509T210000
DTSTAMP:20260421T041643
CREATED:20260407T001115Z
LAST-MODIFIED:20260407T001115Z
UID:9464-1778353200-1778360400@3vcf.org
SUMMARY:2026 Tri-Valley's Asian Heritage Celebration
DESCRIPTION:Join us for another year of spectacular performances\, an occasion to bring the community celebrate many of our cultures (eastern and western). This year’s program will be focused on band/ensemble\, especially we include a very awesome band by young artists of special needs as May is also Mental Health Awareness month.
URL:https://3vcf.org/event/2026-tri-valleys-asian-heritage-celebration/
LOCATION:Dublin Center for Performing Arts and Education\, 8151 Village Pkwy\, Dublin\, 94568
ATTACH;FMTTYPE=image/jpeg:https://3vcf.org/wp-content/uploads/2026/04/IMG_6092.jpg
END:VEVENT
BEGIN:VEVENT
DTSTART;VALUE=DATE:20260518
DTEND;VALUE=DATE:20260519
DTSTAMP:20260421T041643
CREATED:20260227T212551Z
LAST-MODIFIED:20260227T212551Z
UID:8944-1779062400-1779148799@3vcf.org
SUMMARY:The Nephrotic Syndrome Foundation's Day on the Green
DESCRIPTION:The Nephrotic Syndrome Foundations’s flagship fundraiser featuring 18-hole golf tournament\, dinner\, auction and more in support of families battling Nephrotic Syndrome.
URL:https://3vcf.org/event/the-nephrotic-syndrome-foundations-day-on-the-green/
LOCATION:Diablo Country Club\, 1700 Clubhouse Drive\, Diablo\, 94528
ATTACH;FMTTYPE=image/png:https://3vcf.org/wp-content/uploads/2026/02/NSF-DOTG-2026.png
ORGANIZER;CN="The Nephrotic Syndrome Foundation":MAILTO:andicallaway@nephroticsyndromefoundation.org
END:VEVENT
BEGIN:VEVENT
DTSTART;TZID=America/Los_Angeles:20260620T170000
DTEND;TZID=America/Los_Angeles:20260620T213000
DTSTAMP:20260421T041643
CREATED:20260401T043057Z
LAST-MODIFIED:20260401T043057Z
UID:9392-1781974800-1781991000@3vcf.org
SUMMARY:Celebrating Goodness Village: 5th Annual Fundraiser
DESCRIPTION:Join us for an incredible evening to celebrate our growing Village! The event begins at 5pm with Appetizers\, a No-host Bar\, and a Silent Auction. We’ll then enjoy a delicious dinner of Tri-Tip\, Salmon\, or Vegetarian\, followed by Dessert\, a Live Auction\, and our Opportunity for Giving. We’ll end the evening with a DJ to dance the night away. \nAll the funds raised at this event will go directly toward Goodness Village’s support services\, giving 28 formerly unhoused individuals of the Tri-Valley the opportunity to create a Fresh Start!
URL:https://3vcf.org/event/celebrating-goodness-village-5th-annual-fundraiser/
LOCATION:Robert Livermore Community Center\, 4448 Loyola Way\, Livermore\, CA
ATTACH;FMTTYPE=image/png:https://3vcf.org/wp-content/uploads/2026/03/Celebrating-Goodness-Village-flyer-5-x-7-in-1.png
ORGANIZER;CN="Goodness Village":MAILTO:info@gvlivermore.org
END:VEVENT
BEGIN:VEVENT
DTSTART;TZID=America/Los_Angeles:20260626T170000
DTEND;TZID=America/Los_Angeles:20260626T203000
DTSTAMP:20260421T041643
CREATED:20260227T212401Z
LAST-MODIFIED:20260227T212401Z
UID:8978-1782493200-1782505800@3vcf.org
SUMMARY:5th Annual Wine Down in the Grove
DESCRIPTION:Enjoy a relaxed summer evening featuring exceptional food\, beer\, wine\, live music\, and the chance to reconnect with fellow supporters. The night will also include silent and live auctions\, offering wonderful opportunities to give back while taking home something special. \nProceeds from the event benefit the LARPD Foundation\, helping expand access to parks and recreation through scholarships\, enhances parks and programs\, and fosters community through vibrant shared spaces for all. \nWe look forward to celebrating with you.
URL:https://3vcf.org/event/5th-annual-wine-down-in-the-grove/
LOCATION:Ravenswood Historic Site\, 2647 Arroyo Road\, Livermore\, CA\, 94550\, United States
END:VEVENT
BEGIN:VEVENT
DTSTART;TZID=America/Los_Angeles:20260925T070000
DTEND;TZID=America/Los_Angeles:20260925T140000
DTSTAMP:20260421T041643
CREATED:20260203T201312Z
LAST-MODIFIED:20260203T201312Z
UID:8516-1790319600-1790344800@3vcf.org
SUMMARY:2026 Pillars of Hope Annual Golf Tournament
DESCRIPTION:Pillars of Hope will host its 6th annual golf tournament on September 25th\, 2026. This golf tournament is a fun filled day with raffles\, silent auctions\, games\, and most importantly golf!\nAlong with a day filled with laughter and joy\, every indvidiauls that registers themselves and/or their team will be support not only Pillars of Hope as a non-profit organziation\, but the money raised will go to the operational budget of POH that allows us to combat modern slavery\, but more importantly\, will go towards our Human Trafficking Victim Assistance Program that allows us to work hand in hand with invidiuals that have been or currently are being sex trafficked or labor trafficked. \nPlease visit our website to learn more or contact us at the email below! \nHome \n\npillarsofhopeoffice@gmail.com
URL:https://3vcf.org/event/2026-pillars-of-hope-annual-golf-tournament/
LOCATION:shadow lakes\, 401 W Country Club Drive\, Brentwood\, 94513
END:VEVENT
BEGIN:VEVENT
DTSTART;TZID=America/Los_Angeles:20261016T130000
DTEND;TZID=America/Los_Angeles:20261016T170000
DTSTAMP:20260421T041643
CREATED:20260203T200827Z
LAST-MODIFIED:20260227T212339Z
UID:8620-1792155600-1792170000@3vcf.org
SUMMARY:TEDxCaminoRamon St
DESCRIPTION:TEDxCaminoRamon is an annual nonprofit event that brings the community together to share ideas worth spreading through powerful\, locally rooted talks and conversations. Organized independently under license from TED\, TEDx events are designed to spark dialogue\, inspire learning\, and connect people across disciplines including technology\, education\, science\, culture\, and social impact. TEDxCaminoRamon highlights voices from within the community and beyond\, creating a platform for thought leaders\, educators\, innovators\, and changemakers to share ideas that inform\, inspire\, and strengthen civic connection. All TEDx talks are guided by TED’s mission to spread ideas and are made freely accessible to a global audience.This year the event is help on Octorber 16th and every year it’s held at Roundhouse Conference Bishop Ranch in San Ramon.
URL:https://3vcf.org/event/tedxcaminoramon-st/
LOCATION:Roundhouse Conference Center\, 2600 Camino Ramon\, San Ramon\, CA\, 94583\, United States
ATTACH;FMTTYPE=image/jpeg:https://3vcf.org/wp-content/uploads/2026/01/TED-MAIN.jpg
END:VEVENT
END:VCALENDAR